BEGIN:VCALENDAR
VERSION:2.0
PRODID:-//wp-events-plugin.com//7.2.2.1//EN
TZID:Europe/Zurich
X-WR-TIMEZONE:Europe/Zurich
BEGIN:VEVENT
UID:86@bullet.ch
DTSTART;TZID=Europe/Zurich:20250112T173000
DTEND;TZID=Europe/Zurich:20250112T173000
DTSTAMP:20250106T164723Z
URL:https://bullet.ch/events/degustations-des-premiers-gruyeres-de-bullet/
SUMMARY:Dégustations des premiers Gruyères de Bullet
DESCRIPTION:Les premiers Gruyères de Bullet arrivent ... Venez les dégust
 er à la fromagerie de Bullet.\n\nVin chaud offert
LOCATION:Fromagerie du Chalet Neuf\, Petite Charrière 1\, 1453 Bullet\, Su
 isse
X-APPLE-STRUCTURED-LOCATION;VALUE=URI;X-ADDRESS=Petite Charrière 1\, 1453 
 Bullet\, Suisse;X-APPLE-RADIUS=100;X-TITLE=Fromagerie du Chalet Neuf:geo:0
 ,0
END:VEVENT
BEGIN:VTIMEZONE
TZID:Europe/Zurich
X-LIC-LOCATION:Europe/Zurich
BEGIN:STANDARD
DTSTART:20241027T020000
TZOFFSETFROM:+0200
TZOFFSETTO:+0100
TZNAME:CET
END:STANDARD
END:VTIMEZONE
END:VCALENDAR