BEGIN:VCALENDAR
VERSION:2.0
PRODID:-//wp-events-plugin.com//7.2.2.1//EN
TZID:Europe/Zurich
X-WR-TIMEZONE:Europe/Zurich
BEGIN:VEVENT
UID:124@bullet.ch
DTSTART;TZID=Europe/Zurich:20260504T150000
DTEND;TZID=Europe/Zurich:20260504T160000
DTSTAMP:20260422T093709Z
URL:https://bullet.ch/events/seance-de-prevention-arnaques-du-quotidien/
SUMMARY:Séance de prévention "Arnaques du quotidien"
DESCRIPTION:"Arnaques au quotidien à destination des Seniors"\n\nPrésent
 ée par le Service de prévention de la Gendarmerie vaudoise\n\nPour les p
 ersonnes seniors et leurs proches\n\nConférence gratuite
CATEGORIES:Commune
LOCATION:Espace A. Jaccard\, Rue Neuve 10\, Sainte-Croix\, Vaud\, 1450\, Su
 isse
X-APPLE-STRUCTURED-LOCATION;VALUE=URI;X-ADDRESS=Rue Neuve 10\, Sainte-Croix
 \, Vaud\, 1450\, Suisse;X-APPLE-RADIUS=100;X-TITLE=Espace A. Jaccard:geo:0
 ,0
END:VEVENT
BEGIN:VTIMEZONE
TZID:Europe/Zurich
X-LIC-LOCATION:Europe/Zurich
BEGIN:DAYLIGHT
DTSTART:20260329T030000
TZOFFSETFROM:+0100
TZOFFSETTO:+0200
TZNAME:CEST
END:DAYLIGHT
END:VTIMEZONE
END:VCALENDAR