BEGIN:VCALENDAR
VERSION:2.0
PRODID:-//wp-events-plugin.com//7.2.2.1//EN
TZID:Europe/Zurich
X-WR-TIMEZONE:Europe/Zurich
BEGIN:VEVENT
UID:15@bullet.ch
DTSTART;TZID=Europe/Zurich:20231009T193000
DTEND;TZID=Europe/Zurich:20231009T223000
DTSTAMP:20231009T170023Z
URL:https://bullet.ch/events/seance-du-conseil-communal-3/
SUMMARY:Séance du Conseil communal
DESCRIPTION:
LOCATION:Salle Bertha Bonnet\, Route de Sainte-Croix 24\, Bullet\, 1453\, S
 uisse
X-APPLE-STRUCTURED-LOCATION;VALUE=URI;X-ADDRESS=Route de Sainte-Croix 24\, 
 Bullet\, 1453\, Suisse;X-APPLE-RADIUS=100;X-TITLE=Salle Bertha Bonnet:geo:
 0,0
END:VEVENT
BEGIN:VTIMEZONE
TZID:Europe/Zurich
X-LIC-LOCATION:Europe/Zurich
BEGIN:DAYLIGHT
DTSTART:20230326T030000
TZOFFSETFROM:+0100
TZOFFSETTO:+0200
TZNAME:CEST
END:DAYLIGHT
END:VTIMEZONE
END:VCALENDAR