BEGIN:VCALENDAR
VERSION:2.0
PRODID:-//wp-events-plugin.com//7.2.2.1//EN
TZID:Europe/Zurich
X-WR-TIMEZONE:Europe/Zurich
BEGIN:VEVENT
UID:51@bullet.ch
DTSTART;TZID=Europe/Zurich:20240330T190000
DTEND;TZID=Europe/Zurich:20240330T190000
DTSTAMP:20240128T175142Z
URL:https://bullet.ch/events/soiree-fondue-theatre-2/
SUMMARY:Soirée fondue théâtre
DESCRIPTION:"Une véritable cure de bien-être"\n\nUne comédie de Stéphan
 e Rouget\, interprétée par la troupe "Passe-moi le rouge"\n\nOrganisatio
 n : Montagnarde de Bullet\n\nInscription jusqu'au 24 mars par SMS au 079 2
 51 35 89 ou par e-mail : lamontagnardebullet@hotmail.com\n\n
LOCATION:Grande salle de Bullet\, Route de Sainte-Croix 33\, Bullet\, 1453\
 , Suisse
X-APPLE-STRUCTURED-LOCATION;VALUE=URI;X-ADDRESS=Route de Sainte-Croix 33\, 
 Bullet\, 1453\, Suisse;X-APPLE-RADIUS=100;X-TITLE=Grande salle de Bullet:g
 eo:0,0
END:VEVENT
BEGIN:VTIMEZONE
TZID:Europe/Zurich
X-LIC-LOCATION:Europe/Zurich
BEGIN:STANDARD
DTSTART:20231029T020000
TZOFFSETFROM:+0200
TZOFFSETTO:+0100
TZNAME:CET
END:STANDARD
END:VTIMEZONE
END:VCALENDAR