BEGIN:VCALENDAR
VERSION:2.0
PRODID:-//wp-events-plugin.com//7.2.2.1//EN
TZID:Europe/Zurich
X-WR-TIMEZONE:Europe/Zurich
BEGIN:VEVENT
UID:64@bullet.ch
DTSTART;TZID=Europe/Zurich:20240622T083000
DTEND;TZID=Europe/Zurich:20240622T083000
DTSTAMP:20240518T103244Z
URL:https://bullet.ch/events/tour-des-alpages-vtt/
SUMMARY:Tour des Alpages VTT
DESCRIPTION:\nEn 2024\, Sainte-Croix / Les Rasses a le plaisir d'inaugurer 
 un nouvel itinéraire VTT : Le Tour des Alpages. Ce parcours de 22 km vous
  emmènera autour du mythique sommet du Chasseron\, à la découverte des 
 paysages typiques du Balcon du Jura et de ses magnifiques panoramas sur la
  chaîne des Alpes.\n\nDépart et arrivée : Hôtel &amp\; Spa Les Planets
  (parking gratuit à proximité). Des transports publics depuis Yverdon-le
 s-Bains vous permettront de rejoindre confortablement Les Rasses (train Yv
 erdon-Sainte-Croix\, puis bus ligne 615 jusqu'aux Rasses.\n\n\nHoraires : 
 6 vagues de départs prévues : 8h30-9h00 / 9h00-9h30 / 9h30-10h00 / 10h00
 -10h30 / 10h30-11h00 / 11h00-11h30. Merci d'indiquer votre préférence lo
 rs de la réservation. L'heure exacte sera confirmée par e-mail lors de l
 a réservation.\n\nPrix :\n\n\n 	Chf 59.-- avec votre VTT Assistance élec
 trique ou sans\n 	Chf 99.-- avec location d'un VTT Assistance électrique\
 n\nRéservation : Places limitées. Pas d'inscription sur place. Inscripti
 on par e-mail à l'adresse ot@sainte-croix.ch ou par téléphone au 079 37
 8 37 91. Merci de mentionner sur la réservation vos coordonnées\, le nom
 bre de participants et l'heure de départ de préférence. Si vous désire
 z réserver un vélo\, merci de préciser votre taille.\n\nFermeture des i
 nscriptions : 16 juin 2024 à minuit\n\nPaiement : Les modalités de pai
 ement seront communiquées via le courriel de confirmation de réservation
 . Le paiement s'effectue par virement bancaire ou TWINT.\n\nAnnulation : C
 ette balade gourmande est prévue par tous les temps. Dans le cas où les 
 conditions météo ne permettraient pas la tenue de la manifestation dans 
 des conditions de sécurité acceptables\, vous serez informés par courri
 el au plus tard le mardi 18 juin et intégralement remboursés.\n\nConditi
 ons de participations : L'itinéraire de 22 kilomètres présente un dén
 ivelé positif de 740 mètres. Il est donc particulièrement adapté aux u
 tilisateurs de vélos à assistance électrique. La balade gourmande est d
 onc accessible à tous dès 16 ans (dès 14 ans pour les détenteurs de pe
 rmis de cyclomoteur). Les participants sont responsables de leur propre ma
 tériel et doivent être assurés individuellement contre les accidents. L
 es participants ont l'obligation de se conformer aux règlements sur la ci
 rculation routière. Les organisateurs déclinent toute responsabilité en
  cas d'accident\, de vol et de dégâts. Le port d'un équipement de sécu
 rité adapté et du casque sont vivement conseillé.\n\nMenu * :\n\n\n\n\n
  	Hôtel &amp\; Spa Les Planets - Accueil\, café et croissant\n 	Chalet R
 estaurant du Mont-de-la-Mayaz - Délice salé campagnard et thé froid mai
 son\n 	Cabane-refuge "La Casba" - Menegetz\, bar à sirop et bricelets mai
 son\n 	Chalet-restaurant Les Avattes - L'Apér'Avattes : planchette et Cha
 sselas de Concise\n 	Hôtel du Chasseron - "Macaronis du Chasseron" et th
 é froid maison\n 	Chalet de la Grandsonnaz-Dessus - Tarte maison "La douc
 eur de mamie" et café/thé\n 	Café Restaurant des Cluds - Absinthe La Va
 lotte du Val-de-Travers ou citronnade\n\n* Menu sous réserve de modificat
 ions. Les consommations supplémentaires non-mentionnées seront facturée
 s en sus. Prévoir de l'argent liquide pour les extras.\n\n
LOCATION:Station Les Rasses\, Route du Chasseron 5\, Les Rasses\, 1452\, Su
 isse
X-APPLE-STRUCTURED-LOCATION;VALUE=URI;X-ADDRESS=Route du Chasseron 5\, Les 
 Rasses\, 1452\, Suisse;X-APPLE-RADIUS=100;X-TITLE=Station Les Rasses:geo:0
 ,0
END:VEVENT
BEGIN:VTIMEZONE
TZID:Europe/Zurich
X-LIC-LOCATION:Europe/Zurich
BEGIN:DAYLIGHT
DTSTART:20240331T030000
TZOFFSETFROM:+0100
TZOFFSETTO:+0200
TZNAME:CEST
END:DAYLIGHT
END:VTIMEZONE
END:VCALENDAR