BEGIN:VCALENDAR
VERSION:2.0
PRODID:-//wp-events-plugin.com//7.2.2.1//EN
TZID:Europe/Zurich
X-WR-TIMEZONE:Europe/Zurich
BEGIN:VEVENT
UID:67@bullet.ch
DTSTART;TZID=Europe/Zurich;VALUE=DATE:20240922
DTEND;TZID=Europe/Zurich;VALUE=DATE:20240923
DTSTAMP:20240825T093521Z
URL:https://bullet.ch/events/votations-federales-2024-09/
SUMMARY:Votations fédérales et communales
DESCRIPTION:Objets fédéraux soumis à votation\n\n 	Initiative populaire 
 du 8 septembre 2020 «Pour l'avenir de notre nature et de notre paysage (I
 nitiative biodiversité)»\n 	Modification du 17 mars 2023 de la loi féd
 érale sur la prévoyance professionnelle vieillesse\, survivants et inval
 idité (LPP) (Réforme de la prévoyance professionnelle)\n\nObjet communa
 l soumis à votation\n\n 	Référendum sur la décision du Conseil communa
 l du 20 juin 2022 « Adoption du plan d’affectation intercommunal valant
  permis de construire « Parc éolien de la Grandsonnaz » sis sur le terr
 itoire des communes de Bullet\, Fiez\, Fontaines-sur-Grandson et Mauborget
  »\n
END:VEVENT
BEGIN:VTIMEZONE
TZID:Europe/Zurich
X-LIC-LOCATION:Europe/Zurich
BEGIN:DAYLIGHT
DTSTART:20240331T030000
TZOFFSETFROM:+0100
TZOFFSETTO:+0200
TZNAME:CEST
END:DAYLIGHT
END:VTIMEZONE
END:VCALENDAR